BEGIN:VCALENDAR
VERSION:2.0
PRODID:-//Minnesota River Valley - Audubon Chapter - ECPv6.15.20//NONSGML v1.0//EN
CALSCALE:GREGORIAN
METHOD:PUBLISH
X-ORIGINAL-URL:https://mrvac.org
X-WR-CALDESC:Events for Minnesota River Valley - Audubon Chapter
REFRESH-INTERVAL;VALUE=DURATION:PT1H
X-Robots-Tag:noindex
X-PUBLISHED-TTL:PT1H
BEGIN:VTIMEZONE
TZID:America/Chicago
BEGIN:DAYLIGHT
TZOFFSETFROM:-0600
TZOFFSETTO:-0500
TZNAME:CDT
DTSTART:20250309T080000
END:DAYLIGHT
BEGIN:STANDARD
TZOFFSETFROM:-0500
TZOFFSETTO:-0600
TZNAME:CST
DTSTART:20251102T070000
END:STANDARD
BEGIN:DAYLIGHT
TZOFFSETFROM:-0600
TZOFFSETTO:-0500
TZNAME:CDT
DTSTART:20260308T080000
END:DAYLIGHT
BEGIN:STANDARD
TZOFFSETFROM:-0500
TZOFFSETTO:-0600
TZNAME:CST
DTSTART:20261101T070000
END:STANDARD
BEGIN:DAYLIGHT
TZOFFSETFROM:-0600
TZOFFSETTO:-0500
TZNAME:CDT
DTSTART:20270314T080000
END:DAYLIGHT
BEGIN:STANDARD
TZOFFSETFROM:-0500
TZOFFSETTO:-0600
TZNAME:CST
DTSTART:20271107T070000
END:STANDARD
END:VTIMEZONE
BEGIN:VEVENT
DTSTART;TZID=America/Chicago:20260112T180000
DTEND;TZID=America/Chicago:20260112T193000
DTSTAMP:20260422T174439
CREATED:20251206T210814Z
LAST-MODIFIED:20251206T210814Z
UID:10000215-1768240800-1768246200@mrvac.org
SUMMARY:Photography SIG Meeting
DESCRIPTION:Kick off the new year with the Photography SIG for an evening of social engagement and photo skill-building.  Bring your laptop\, photo editing tools\, and photos from your digital stash.  The group will share their techniques and you’ll go home with a nicely edited photo plus new ways of editing the rest.  Peter Hartzel will present and facilitate the meeting. https://peterhartzelphotography.com/ \nMeet at Highland Park Public Library and Community Center in St. Paul\, first floor meeting room. \nQuestions or need more information\, contact Shanda Fisher\, Photo SIG Coordinator at 612-719-0981.
URL:https://mrvac.org/event/photography-sig-meeting/
LOCATION:Highland Park Public Library\, 1974 Ford Parkway\, St. Paul\, 55116\, United States
END:VEVENT
END:VCALENDAR