BEGIN:VCALENDAR
VERSION:2.0
PRODID:-//Minnesota River Valley - Audubon Chapter - ECPv6.15.20//NONSGML v1.0//EN
CALSCALE:GREGORIAN
METHOD:PUBLISH
X-WR-CALNAME:Minnesota River Valley - Audubon Chapter
X-ORIGINAL-URL:https://mrvac.org
X-WR-CALDESC:Events for Minnesota River Valley - Audubon Chapter
REFRESH-INTERVAL;VALUE=DURATION:PT1H
X-Robots-Tag:noindex
X-PUBLISHED-TTL:PT1H
BEGIN:VTIMEZONE
TZID:America/Chicago
BEGIN:DAYLIGHT
TZOFFSETFROM:-0600
TZOFFSETTO:-0500
TZNAME:CDT
DTSTART:20250309T080000
END:DAYLIGHT
BEGIN:STANDARD
TZOFFSETFROM:-0500
TZOFFSETTO:-0600
TZNAME:CST
DTSTART:20251102T070000
END:STANDARD
BEGIN:DAYLIGHT
TZOFFSETFROM:-0600
TZOFFSETTO:-0500
TZNAME:CDT
DTSTART:20260308T080000
END:DAYLIGHT
BEGIN:STANDARD
TZOFFSETFROM:-0500
TZOFFSETTO:-0600
TZNAME:CST
DTSTART:20261101T070000
END:STANDARD
BEGIN:DAYLIGHT
TZOFFSETFROM:-0600
TZOFFSETTO:-0500
TZNAME:CDT
DTSTART:20270314T080000
END:DAYLIGHT
BEGIN:STANDARD
TZOFFSETFROM:-0500
TZOFFSETTO:-0600
TZNAME:CST
DTSTART:20271107T070000
END:STANDARD
END:VTIMEZONE
BEGIN:VEVENT
DTSTART;TZID=America/Chicago:20260418T080000
DTEND;TZID=America/Chicago:20260418T100000
DTSTAMP:20260425T052709
CREATED:20260122T053112Z
LAST-MODIFIED:20260320T144652Z
UID:10000249-1776499200-1776506400@mrvac.org
SUMMARY:Nine Mile Creek Birding Trip
DESCRIPTION:Nine Mile Creek Birding Trip\nApril 18\, 2026\n8:00 am\nRob Daves\n612-710-2626 \nWe’ll be looking for early migrants and visiting a prairie remnant to see early spring wildflowers.\nDifficulty: A few very steep trail segments on an otherwise easy grade along the creek.
URL:https://mrvac.org/event/nine-mile-creek-birding-trip/
LOCATION:Nine Mile Creek Trailhead\, 1826 W 106th Street\, Bloomington\, Minnesota\, 55431
ORGANIZER;CN="Rob Daves":MAILTO:rob_daves@yahoo.com
END:VEVENT
END:VCALENDAR