BEGIN:VCALENDAR
VERSION:2.0
PRODID:-//Minnesota River Valley - Audubon Chapter - ECPv6.15.20//NONSGML v1.0//EN
CALSCALE:GREGORIAN
METHOD:PUBLISH
X-WR-CALNAME:Minnesota River Valley - Audubon Chapter
X-ORIGINAL-URL:https://mrvac.org
X-WR-CALDESC:Events for Minnesota River Valley - Audubon Chapter
REFRESH-INTERVAL;VALUE=DURATION:PT1H
X-Robots-Tag:noindex
X-PUBLISHED-TTL:PT1H
BEGIN:VTIMEZONE
TZID:America/Chicago
BEGIN:DAYLIGHT
TZOFFSETFROM:-0600
TZOFFSETTO:-0500
TZNAME:CDT
DTSTART:20250309T080000
END:DAYLIGHT
BEGIN:STANDARD
TZOFFSETFROM:-0500
TZOFFSETTO:-0600
TZNAME:CST
DTSTART:20251102T070000
END:STANDARD
BEGIN:DAYLIGHT
TZOFFSETFROM:-0600
TZOFFSETTO:-0500
TZNAME:CDT
DTSTART:20260308T080000
END:DAYLIGHT
BEGIN:STANDARD
TZOFFSETFROM:-0500
TZOFFSETTO:-0600
TZNAME:CST
DTSTART:20261101T070000
END:STANDARD
BEGIN:DAYLIGHT
TZOFFSETFROM:-0600
TZOFFSETTO:-0500
TZNAME:CDT
DTSTART:20270314T080000
END:DAYLIGHT
BEGIN:STANDARD
TZOFFSETFROM:-0500
TZOFFSETTO:-0600
TZNAME:CST
DTSTART:20271107T070000
END:STANDARD
END:VTIMEZONE
BEGIN:VEVENT
DTSTART;TZID=America/Chicago:20260627T080000
DTEND;TZID=America/Chicago:20260627T103000
DTSTAMP:20260419T084353
CREATED:20251215T134651Z
LAST-MODIFIED:20260311T135121Z
UID:10000221-1782547200-1782556200@mrvac.org
SUMMARY:Bird Walks with Bob - Snail Lake Wetland Area on June 27\, 2026
DESCRIPTION:We will meet at 8:00am at Snail Lake Wetland Area in the beach parking lot on the south shore of Snail Lake. 4191 Snail Lake Boulevard. \nPlease dress appropriately for the weather.  Bring water\, binoculars\, and birding apps or guides.  Call or text Bob 651-775-7982 if you have questions.  Inclement weather may affect this event.
URL:https://mrvac.org/event/bird-walks-with-bob-snail-lake-wetland-area-on-june-27/
LOCATION:Snail Lake Regional Park\, 4191 Snail Lake Boulevard\, Shoreview\, MN\, United States
END:VEVENT
END:VCALENDAR